BEGIN:VCALENDAR
VERSION:2.0
PRODID:DPCALENDAR
CALSCALE:GREGORIAN
X-WR-TIMEZONE:UTC
BEGIN:VEVENT
DTSTART:20260503T060000Z
DTEND:20260503T070000Z
UID:9cb2af7e20d63045a1610c2d82c790cf
SUMMARY:Vzduchovkový benchrest Stará Lysá
DTSTAMP:20260422T121852Z
DESCRIPTION:3. 5. 2026 proběhne v Lysé nad Labem závod ve střelbě na benchrestový terč. Střílí se na 50 m a závod je vypsán společně pro malorážky a vzduchovky nad 16 J. Vzduchovky jsou bez omezení (opora, připojení na lahev, optika...)Start v 9:00, registrace na místě před závodem. Hlásit se dopředu netřeba.Pozvánka zde:https://ssksporck.cz/6-7-2025-malorazka-a-vzduchovka-s-vykonem-nad-16j-strelba-na-benchrestovy-terc-2/Lokace zde:https://mapy.com/s/kanezabafuKontakt na organizátory:e-mail: info@ssksporck.cz
X-ALT-DESC;FMTTYPE=text/html:<p><span style="color: #323d4f; font-family: 'Lucida Grande', 'Trebuchet MS', Helvetica, Arial, sans-serif; font-size: 13px; background-color: #ececec;">3. 5. 2026 proběhne v Lysé nad Labem závod ve střelbě na benchrestový terč. Střílí se na 50 m a závod je vypsán společně pro malorážky a vzduchovky nad 16 J. Vzduchovky jsou bez omezení (opora, připojení na lahev, optika...)</span><br style="margin: 0px; padding: 0px; color: #323d4f; font-family: 'Lucida Grande', 'Trebuchet MS', Helvetica, Arial, sans-serif; font-size: 13px; background-color: #ececec;" /><span style="color: #323d4f; font-family: 'Lucida Grande', 'Trebuchet MS', Helvetica, Arial, sans-serif; font-size: 13px; background-color: #ececec;">Start v 9:00, registrace na místě před závodem. Hlásit se dopředu netřeba.</span><br style="margin: 0px; padding: 0px; color: #323d4f; font-family: 'Lucida Grande', 'Trebuchet MS', Helvetica, Arial, sans-serif; font-size: 13px; background-color: #ececec;" /><br style="margin: 0px; padding: 0px; color: #323d4f; font-family: 'Lucida Grande', 'Trebuchet MS', Helvetica, Arial, sans-serif; font-size: 13px; background-color: #ececec;" /><span style="color: #323d4f; font-family: 'Lucida Grande', 'Trebuchet MS', Helvetica, Arial, sans-serif; font-size: 13px; background-color: #ececec;">Pozvánka zde:</span><br style="margin: 0px; padding: 0px; color: #323d4f; font-family: 'Lucida Grande', 'Trebuchet MS', Helvetica, Arial, sans-serif; font-size: 13px; background-color: #ececec;" /><a href="https://ssksporck.cz/6-7-2025-malorazka-a-vzduchovka-s-vykonem-nad-16j-strelba-na-benchrestovy-terc-2/" class="postlink" style="margin: 0px; padding: 0px; color: #006597; font-family: 'Lucida Grande', 'Trebuchet MS', Helvetica, Arial, sans-serif; font-size: 13px; background-color: #ececec;">https://ssksporck.cz/6-7-2025-malorazka-a-vzduchovka-s-vykonem-nad-16j-strelba-na-benchrestovy-terc-2/</a><br style="margin: 0px; padding: 0px; color: #323d4f; font-family: 'Lucida Grande', 'Trebuchet MS', Helvetica, Arial, sans-serif; font-size: 13px; background-color: #ececec;" /><br style="margin: 0px; padding: 0px; color: #323d4f; font-family: 'Lucida Grande', 'Trebuchet MS', Helvetica, Arial, sans-serif; font-size: 13px; background-color: #ececec;" /><span style="color: #323d4f; font-family: 'Lucida Grande', 'Trebuchet MS', Helvetica, Arial, sans-serif; font-size: 13px; background-color: #ececec;">Lokace zde:</span><br style="margin: 0px; padding: 0px; color: #323d4f; font-family: 'Lucida Grande', 'Trebuchet MS', Helvetica, Arial, sans-serif; font-size: 13px; background-color: #ececec;" /><a href="https://mapy.com/s/kanezabafu" class="postlink" style="margin: 0px; padding: 0px; color: #006597; font-family: 'Lucida Grande', 'Trebuchet MS', Helvetica, Arial, sans-serif; font-size: 13px; background-color: #ececec;">https://mapy.com/s/kanezabafu</a><br style="margin: 0px; padding: 0px; color: #323d4f; font-family: 'Lucida Grande', 'Trebuchet MS', Helvetica, Arial, sans-serif; font-size: 13px; background-color: #ececec;" /><br style="margin: 0px; padding: 0px; color: #323d4f; font-family: 'Lucida Grande', 'Trebuchet MS', Helvetica, Arial, sans-serif; font-size: 13px; background-color: #ececec;" /><span style="color: #323d4f; font-family: 'Lucida Grande', 'Trebuchet MS', Helvetica, Arial, sans-serif; font-size: 13px; background-color: #ececec;">Kontakt na organizátory:</span><br style="margin: 0px; padding: 0px; color: #323d4f; font-family: 'Lucida Grande', 'Trebuchet MS', Helvetica, Arial, sans-serif; font-size: 13px; background-color: #ececec;" /><span style="color: #323d4f; font-family: 'Lucida Grande', 'Trebuchet MS', Helvetica, Arial, sans-serif; font-size: 13px; background-color: #ececec;">e-mail:&nbsp;</span><a href="mailto:info@ssksporck.cz" style="margin: 0px; padding: 0px; color: #006597; font-family: 'Lucida Grande', 'Trebuchet MS', Helvetica, Arial, sans-serif; font-size: 13px; background-color: #ececec;">info@ssksporck.cz</a></p>
X-ACCESS:1
X-MODIFIED:20260422T121939Z
X-HITS:16
X-URL:
X-COLOR:
END:VEVENT
END:VCALENDAR